BEGIN:VCALENDAR
VERSION:2.0
PRODID:sozialministeriumat
BEGIN:VEVENT
UID:sozialministeriumat-/Services/Aktuelles/archiv-2026/symposium-haendehygiene-2026.html
URL:https://www.sozialministerium.gv.at/Services/Aktuelles/archiv-2026/symposium-haendehygiene-2026.ics
DTSTAMP:20260421T125727Z
DTSTART:20260505T100000
DTEND:20260505T160000
SUMMARY:13. Symposium zum Internationalen Tag der Händehygiene
LOCATION:Festsaal der Veterinärmedizinischen Universität Wien 1210 Wien, Veterinärplatz 1
DESCRIPTION:Anmeldung bis 28. April möglich\n\nAnmeldeschluss: 28. April 2026\n\nArt: Konferenz / Tagung\n\nVeranstalter: Bundesministerium für Arbeit, Soziales, Gesundheit, Pflege und Konsumentenschutz\n\nVeranstaltungsinformation: Die Teilnahme am Symposium ist vor Ort und online möglich. Die Anmeldung ist bis zum 28. April 2026 über unser Anmeldetool möglich.
X-ALT-DESC;FMTTYPE=text/html:<html><head><base href="https://www.sozialministerium.gv.at"></head><body><p>Anmeldung bis 28. April möglich</p><p><b>Anmeldeschluss:</b> 28. April 2026</p><p><b>Art:</b> Konferenz / Tagung</p><p><b>Veranstalter:</b> Bundesministerium für Arbeit, Soziales, Gesundheit, Pflege und Konsumentenschutz</p><p><b>Veranstaltungsinformation:</b> Die Teilnahme am Symposium ist vor Ort und online möglich.&#xa0;Die Anmeldung ist bis zum 28. April 2026 über unser <a href="https://bmasgpk.liland.cloud/app/registration/form/event/593439/client/bmasgpk?1" target="_blank" title="Öffnet in einem neuen Fenster">Anmeldetool</a> möglich.</p></body></html>
ORGANIZER;CN=Bundesministerium für Arbeit, Soziales, Gesundheit, Pflege und Konsumentenschutz:https://www.sozialministerium.gv.at/Services/Aktuelles/archiv-2026/symposium-haendehygiene-2026.html
CATEGORIES:Konferenz / Tagung
END:VEVENT
END:VCALENDAR